BEGIN:VCALENDAR
PRODID:-//eluceo/ical//2.0/EN
VERSION:2.0
CALSCALE:GREGORIAN
BEGIN:VEVENT
UID:100bb99488b343c9ac7303f28b47db9f
DTSTAMP:20260421T122141Z
SUMMARY:Grossbaustelle Föderalismus – Eine Standortbestimmung
DESCRIPTION:Webseite: https://www.roessli-tufertschwil.ch\nReferenten/innen
 : SR Beni Würth
URL:https://rotary-toggenburg.ch/de/agenda/show/202819
DTSTART;TZID=Europe/Zurich:20260223T190000
DTEND;TZID=Europe/Zurich:20260223T213000
LOCATION:Rest. Rössli Tufertschwil\, Hotel Rössli Tufertschwil AG\, Tufer
 tschwil 20\, 9604 Lütisburg\, Schweiz
CATEGORIES:Rotary
END:VEVENT
BEGIN:VTIMEZONE
TZID:Europe/Zurich
BEGIN:STANDARD
DTSTART:20260223T190000
TZNAME:CET
TZOFFSETTO:+0100
TZOFFSETFROM:+0100
END:STANDARD
END:VTIMEZONE
END:VCALENDAR
