BEGIN:VCALENDAR
PRODID:-//eluceo/ical//2.0/EN
VERSION:2.0
CALSCALE:GREGORIAN
BEGIN:VEVENT
UID:4de831dee57acebf6d97a215d256cfaf
DTSTAMP:20260419T123126Z
SUMMARY:Karrieren navigieren: Chancen und Risiken im Schweizer Arbeitsmarkt
DESCRIPTION:Webseite: https://www.roessli-tufertschwil.ch\nReferenten/innen
 : \n\nDr. Pascal Scheiwiller\n\n
URL:https://rotary-toggenburg.ch/de/agenda/show/203109
DTSTART;TZID=Europe/Zurich:20260316T190000
DTEND;TZID=Europe/Zurich:20260316T210000
LOCATION:Rest. Rössli Tufertschwil\, Hotel Rössli Tufertschwil AG\, Tufer
 tschwil 20\, 9604 Lütisburg\, Schweiz
CATEGORIES:Rotary
END:VEVENT
BEGIN:VTIMEZONE
TZID:Europe/Zurich
BEGIN:STANDARD
DTSTART:20260316T190000
TZNAME:CET
TZOFFSETTO:+0100
TZOFFSETFROM:+0100
END:STANDARD
END:VTIMEZONE
END:VCALENDAR
