BEGIN:VCALENDAR
PRODID:-//eluceo/ical//2.0/EN
VERSION:2.0
CALSCALE:GREGORIAN
BEGIN:VEVENT
UID:6cd029987affbc6817bd21b3a5b49531
DTSTAMP:20260422T102555Z
SUMMARY:Wohin mit den radioaktiven Abfällen der Schweiz?
DESCRIPTION:Website: https://www.roessli-tufertschwil.ch\nSpeaker(s): Mauru
 s Alig\, Nagra
URL:https://rotary-toggenburg.ch/en/agenda/show/207466
DTSTART;TZID=Europe/Zurich:20260824T120000
DTEND;TZID=Europe/Zurich:20260824T140000
LOCATION:Rest. Rössli Tufertschwil\, Hotel Rössli Tufertschwil AG\, Tufer
 tschwil 20\, 9604 Lütisburg\, Schweiz
CATEGORIES:Rotary
END:VEVENT
BEGIN:VTIMEZONE
TZID:Europe/Zurich
BEGIN:DAYLIGHT
DTSTART:20260824T120000
TZNAME:CEST
TZOFFSETTO:+0200
TZOFFSETFROM:+0200
END:DAYLIGHT
END:VTIMEZONE
END:VCALENDAR
