BEGIN:VCALENDAR
PRODID:-//eluceo/ical//2.0/EN
VERSION:2.0
CALSCALE:GREGORIAN
BEGIN:VEVENT
UID:8f99e8efeaa34a33d332c57fe28568ff
DTSTAMP:20260422T091624Z
SUMMARY:Stadler Group
DESCRIPTION:Website: https://www.roessli-tufertschwil.ch\nSpeaker(s): Rapha
 el Widmer\, Group CFO\, Stadler Group
URL:https://rotary-toggenburg.ch/en/agenda/show/210013
DTSTART;TZID=Europe/Zurich:20260511T120000
DTEND;TZID=Europe/Zurich:20260511T140000
LOCATION:Rest. Rössli Tufertschwil\, Hotel Rössli Tufertschwil AG\, Tufer
 tschwil 20\, 9604 Lütisburg\, Schweiz
CATEGORIES:Rotary
END:VEVENT
BEGIN:VTIMEZONE
TZID:Europe/Zurich
BEGIN:DAYLIGHT
DTSTART:20260511T120000
TZNAME:CEST
TZOFFSETTO:+0200
TZOFFSETFROM:+0200
END:DAYLIGHT
END:VTIMEZONE
END:VCALENDAR
