BEGIN:VCALENDAR
PRODID:-//eluceo/ical//2.0/EN
VERSION:2.0
CALSCALE:GREGORIAN
BEGIN:VEVENT
UID:afc3c2b711a7fcb1cb756c2c16b2fbfe
DTSTAMP:20260422T102253Z
SUMMARY:Liberaler Islam und Tradition
DESCRIPTION:Sitio web: https://www.roessli-tufertschwil.ch\nOrador(es): Ker
 em Adıgüzel - Theologe (Koranexegese) | Seelsorger | Referent
URL:https://rotary-toggenburg.ch/es/agenda/show/208890
DTSTART;TZID=Europe/Zurich:20260413T120000
DTEND;TZID=Europe/Zurich:20260413T140000
LOCATION:Rest. Rössli Tufertschwil\, Hotel Rössli Tufertschwil AG\, Tufer
 tschwil 20\, 9604 Lütisburg\, Schweiz
CATEGORIES:Rotary
END:VEVENT
BEGIN:VTIMEZONE
TZID:Europe/Zurich
BEGIN:DAYLIGHT
DTSTART:20260413T120000
TZNAME:CEST
TZOFFSETTO:+0200
TZOFFSETFROM:+0200
END:DAYLIGHT
END:VTIMEZONE
END:VCALENDAR
