BEGIN:VCALENDAR
PRODID:-//eluceo/ical//2.0/EN
VERSION:2.0
CALSCALE:GREGORIAN
BEGIN:VEVENT
UID:25e9cde0fa09cadbaaae1ad15f6255d7
DTSTAMP:20260422T090940Z
SUMMARY:Holz und Holzbau in der Schweiz - Umfeld\, Gesellschaft\, Wirtschaf
 t
DESCRIPTION:Sitio web: https://www.roessli-tufertschwil.ch\nOrador(es): Jos
 ef Kolb\, Holzbauexperten GmbH
URL:https://rotary-toggenburg.ch/es/agenda/show/210006
DTSTART;TZID=Europe/Zurich:20260907T120000
DTEND;TZID=Europe/Zurich:20260907T140000
LOCATION:Rest. Rössli Tufertschwil\, Hotel Rössli Tufertschwil AG\, Tufer
 tschwil 20\, 9604 Lütisburg\, Schweiz
CATEGORIES:Rotary
END:VEVENT
BEGIN:VTIMEZONE
TZID:Europe/Zurich
BEGIN:DAYLIGHT
DTSTART:20260907T120000
TZNAME:CEST
TZOFFSETTO:+0200
TZOFFSETFROM:+0200
END:DAYLIGHT
END:VTIMEZONE
END:VCALENDAR
