BEGIN:VCALENDAR
PRODID:-//eluceo/ical//2.0/EN
VERSION:2.0
CALSCALE:GREGORIAN
BEGIN:VEVENT
UID:2e9a10f63772d429e0cc49570dd6b510
DTSTAMP:20260422T091242Z
SUMMARY:Konflikte als Chance: Wie Spannungen zu Klarheit und besseren Entsc
 heidungen führen
DESCRIPTION:Sitio web: https://www.roessli-tufertschwil.ch\nOrador(es): Mic
 haela Hebsacker\, sichtweisen.ch
URL:https://rotary-toggenburg.ch/es/agenda/show/210057
DTSTART;TZID=Europe/Zurich:20260622T120000
DTEND;TZID=Europe/Zurich:20260622T140000
LOCATION:Rest. Rössli Tufertschwil\, Hotel Rössli Tufertschwil AG\, Tufer
 tschwil 20\, 9604 Lütisburg\, Schweiz
CATEGORIES:Rotary
END:VEVENT
BEGIN:VTIMEZONE
TZID:Europe/Zurich
BEGIN:DAYLIGHT
DTSTART:20260622T120000
TZNAME:CEST
TZOFFSETTO:+0200
TZOFFSETFROM:+0200
END:DAYLIGHT
END:VTIMEZONE
END:VCALENDAR
