BEGIN:VCALENDAR
PRODID:-//eluceo/ical//2.0/EN
VERSION:2.0
CALSCALE:GREGORIAN
BEGIN:VEVENT
UID:fb6e6d98229407e078b07df95380a264
DTSTAMP:20260419T123920Z
SUMMARY:Es ist Krieg - aber wir sind nicht bereit...
DESCRIPTION:Vefsíða: https://www.roessli-tufertschwil.ch\nFyrirlesari(ar)
 : Matthias Zoller\, \n\n\n\n\n\n\n\n\n\n\n\n\n\n\n\n\n\nGeneralsekretär\
 nvon SWISS ASD
URL:https://rotary-toggenburg.ch/is/agenda/show/203457
DTSTART;TZID=Europe/Zurich:20260309T120000
DTEND;TZID=Europe/Zurich:20260309T140000
LOCATION:Rest. Rössli Tufertschwil\, Hotel Rössli Tufertschwil AG\, Tufer
 tschwil 20\, 9604 Lütisburg\, Schweiz
CATEGORIES:Rotary
END:VEVENT
BEGIN:VTIMEZONE
TZID:Europe/Zurich
BEGIN:STANDARD
DTSTART:20260309T120000
TZNAME:CET
TZOFFSETTO:+0100
TZOFFSETFROM:+0100
END:STANDARD
END:VTIMEZONE
END:VCALENDAR
