BEGIN:VCALENDAR
PRODID:-//eluceo/ical//2.0/EN
VERSION:2.0
CALSCALE:GREGORIAN
BEGIN:VEVENT
UID:0797030453ba33ea42ca013eb1800441
DTSTAMP:20260423T103543Z
SUMMARY:KMU – Führungskompetenz und konsequente Kundenorientierung
DESCRIPTION:Vefsíða: https://www.roessli-tufertschwil.ch\nFyrirlesari(ar)
 : Prof. Dr. Urs Fueglistaller
URL:https://rotary-toggenburg.ch/is/agenda/show/211613
DTSTART;TZID=Europe/Zurich:20261026T120000
DTEND;TZID=Europe/Zurich:20261026T140000
LOCATION:Rest. Rössli Tufertschwil\, Hotel Rössli Tufertschwil AG\, Tufer
 tschwil 20\, 9604 Lütisburg\, Schweiz
CATEGORIES:Rotary
END:VEVENT
BEGIN:VTIMEZONE
TZID:Europe/Zurich
BEGIN:STANDARD
DTSTART:20261026T120000
TZNAME:CET
TZOFFSETTO:+0100
TZOFFSETFROM:+0100
END:STANDARD
END:VTIMEZONE
END:VCALENDAR
