BEGIN:VCALENDAR
PRODID:-//eluceo/ical//2.0/EN
VERSION:2.0
CALSCALE:GREGORIAN
BEGIN:VEVENT
UID:2f53de38a869fb54fe5ae8d10df47b00
DTSTAMP:20260423T103038Z
SUMMARY:Lunch: „Faire Bio-Schokolade statt Billigschokolade aus Kinderarb
 eit“ 
DESCRIPTION:Fyrirlesari(ar): Frau Yvonne Vàsquez\, zuständig für Kakaobo
 hnen\nPronatec AG
URL:https://rotary-toggenburg.ch/is/agenda/show/46293
DTSTART;TZID=Europe/Zurich:20150105T121500
DTEND;TZID=Europe/Zurich:20150105T140000
LOCATION:Rest. Bodega Noi
CATEGORIES:Rotary
END:VEVENT
BEGIN:VTIMEZONE
TZID:Europe/Zurich
BEGIN:STANDARD
DTSTART:20150105T121500
TZNAME:CET
TZOFFSETTO:+0100
TZOFFSETFROM:+0100
END:STANDARD
END:VTIMEZONE
END:VCALENDAR
