BEGIN:VCALENDAR
PRODID:-//eluceo/ical//2.0/EN
VERSION:2.0
CALSCALE:GREGORIAN
BEGIN:VEVENT
UID:f86b52d162baf40756e8fa0090fec3af
DTSTAMP:20260423T084249Z
SUMMARY:Feierabendanlass: Gewerbepark Dietfurt - Revival eines Urgesteins
DESCRIPTION:Rundgang und Besichtigung\n\nKurzreferat des Investors\, Herr P
 eter von Rotz\n\nApéro\nVefsíða: http://www.gewerbeparkdietfurt.ch\nFyr
 irlesari(ar): Peter von Rotz\, Investor
URL:https://rotary-toggenburg.ch/is/agenda/show/50844
DTSTART;TZID=Europe/Zurich:20150518T173000
DTEND;TZID=Europe/Zurich:20150518T173000
LOCATION:Gewerbepark Dietfurt
CATEGORIES:Rotary
END:VEVENT
BEGIN:VTIMEZONE
TZID:Europe/Zurich
BEGIN:DAYLIGHT
DTSTART:20150518T173000
TZNAME:CEST
TZOFFSETTO:+0200
TZOFFSETFROM:+0200
END:DAYLIGHT
END:VTIMEZONE
END:VCALENDAR
