BEGIN:VCALENDAR
PRODID:-//eluceo/ical//2.0/EN
VERSION:2.0
CALSCALE:GREGORIAN
BEGIN:VEVENT
UID:fca75ee769dd4a478082afdbabcdb8a8
DTSTAMP:20260419T133201Z
SUMMARY:Staatskanzlei St.Gallen – Wegbegleiterin der digitalen Transforma
 tion
DESCRIPTION:Sito web: https://www.roessli-tufertschwil.ch\nRelatore/i: Dr. 
 Benedikt van Spyk\, Staatssekretär St. Gallen
URL:https://rotary-toggenburg.ch/it/agenda/show/204960
DTSTART;TZID=Europe/Zurich:20260504T120000
DTEND;TZID=Europe/Zurich:20260504T140000
LOCATION:Rest. Rössli Tufertschwil\, Hotel Rössli Tufertschwil AG\, Tufer
 tschwil 20\, 9604 Lütisburg\, Schweiz
CATEGORIES:Rotary
END:VEVENT
BEGIN:VTIMEZONE
TZID:Europe/Zurich
BEGIN:DAYLIGHT
DTSTART:20260504T120000
TZNAME:CEST
TZOFFSETTO:+0200
TZOFFSETFROM:+0200
END:DAYLIGHT
END:VTIMEZONE
END:VCALENDAR
