BEGIN:VCALENDAR
PRODID:-//eluceo/ical//2.0/EN
VERSION:2.0
CALSCALE:GREGORIAN
BEGIN:VEVENT
UID:22a3d41fe2d11132aee1761afccf3325
DTSTAMP:20260422T091121Z
SUMMARY:ABENDVERANSTALTUNG - USA Quo Vadis? - Gemeinsamer Anlass mit RC Nec
 kertal
DESCRIPTION:Website: http://www.wolfensberg.ch\nSprekers: \n\nProf. Dr. Cla
 udia Franziska Brühwiler\n\n
URL:https://rotary-toggenburg.ch/nl/agenda/show/203996
DTSTART;TZID=Europe/Zurich:20260601T190000
DTEND;TZID=Europe/Zurich:20260601T220000
LOCATION:Hotel Wolfensberg\, Wolfensberg 1289\, 9113 Degersheim
CATEGORIES:Rotary
END:VEVENT
BEGIN:VTIMEZONE
TZID:Europe/Zurich
BEGIN:DAYLIGHT
DTSTART:20260601T190000
TZNAME:CEST
TZOFFSETTO:+0200
TZOFFSETFROM:+0200
END:DAYLIGHT
END:VTIMEZONE
END:VCALENDAR
