BEGIN:VCALENDAR
PRODID:-//eluceo/ical//2.0/EN
VERSION:2.0
CALSCALE:GREGORIAN
BEGIN:VEVENT
UID:db4733a987df67255e1c39bbfcd3e415
DTSTAMP:20260422T124738Z
SUMMARY:ABENDVERANSTALTUNG - Baustellenbesichtigung der Kanti Wattwil
DESCRIPTION:Website: https://www.kantiwattwil.ch\nSprekers: Martin Gauer
URL:https://rotary-toggenburg.ch/nl/agenda/show/210010
DTSTART;TZID=Europe/Zurich:20260518T163000
DTEND;TZID=Europe/Zurich:20260518T210000
LOCATION:Kanti Wattwil
CATEGORIES:Rotary
END:VEVENT
BEGIN:VTIMEZONE
TZID:Europe/Zurich
BEGIN:DAYLIGHT
DTSTART:20260518T163000
TZNAME:CEST
TZOFFSETTO:+0200
TZOFFSETFROM:+0200
END:DAYLIGHT
END:VTIMEZONE
END:VCALENDAR
